
BEGIN:VCALENDAR
VERSION:2.0
PRODID:-//Muziekbond Gelderland Flevoland - ECPv6.15.17//NONSGML v1.0//EN
CALSCALE:GREGORIAN
METHOD:PUBLISH
X-WR-CALNAME:Muziekbond Gelderland Flevoland
X-ORIGINAL-URL:https://www.mbgf.nl
X-WR-CALDESC:Evenementen voor Muziekbond Gelderland Flevoland
REFRESH-INTERVAL;VALUE=DURATION:PT1H
X-Robots-Tag:noindex
X-PUBLISHED-TTL:PT1H
BEGIN:VTIMEZONE
TZID:Europe/Amsterdam
BEGIN:DAYLIGHT
TZOFFSETFROM:+0100
TZOFFSETTO:+0200
TZNAME:CEST
DTSTART:20250330T010000
END:DAYLIGHT
BEGIN:STANDARD
TZOFFSETFROM:+0200
TZOFFSETTO:+0100
TZNAME:CET
DTSTART:20251026T010000
END:STANDARD
BEGIN:DAYLIGHT
TZOFFSETFROM:+0100
TZOFFSETTO:+0200
TZNAME:CEST
DTSTART:20260329T010000
END:DAYLIGHT
BEGIN:STANDARD
TZOFFSETFROM:+0200
TZOFFSETTO:+0100
TZNAME:CET
DTSTART:20261025T010000
END:STANDARD
BEGIN:DAYLIGHT
TZOFFSETFROM:+0100
TZOFFSETTO:+0200
TZNAME:CEST
DTSTART:20270328T010000
END:DAYLIGHT
BEGIN:STANDARD
TZOFFSETFROM:+0200
TZOFFSETTO:+0100
TZNAME:CET
DTSTART:20271031T010000
END:STANDARD
BEGIN:DAYLIGHT
TZOFFSETFROM:+0100
TZOFFSETTO:+0200
TZNAME:CEST
DTSTART:20280326T010000
END:DAYLIGHT
BEGIN:STANDARD
TZOFFSETFROM:+0200
TZOFFSETTO:+0100
TZNAME:CET
DTSTART:20281029T010000
END:STANDARD
END:VTIMEZONE
BEGIN:VEVENT
DTSTART;VALUE=DATE:20260509
DTEND;VALUE=DATE:20260510
DTSTAMP:20260424T120828
CREATED:20251122T172922Z
LAST-MODIFIED:20251122T172946Z
UID:4165-1778284800-1778371199@www.mbgf.nl
SUMMARY:SMP Jeugd Play-Inn en Taptoe
DESCRIPTION:
URL:https://www.mbgf.nl/agenda/smp-jeugd-play-inn-en-taptoe/
LOCATION:Gendt\, Julianaplein\, Gendt\, Gelderland\, Netherlands
ATTACH;FMTTYPE=image/jpeg:https://www.mbgf.nl/wp-content/uploads/2025/11/Jeugd_Play-Inn_Taptoe-2026.jpg
END:VEVENT
BEGIN:VEVENT
DTSTART;VALUE=DATE:20260516
DTEND;VALUE=DATE:20260517
DTSTAMP:20260424T120828
CREATED:20260314T151427Z
LAST-MODIFIED:20260314T151427Z
UID:4750-1778889600-1778975999@www.mbgf.nl
SUMMARY:Theorie- en praktijk examens Oldebroek
DESCRIPTION:
URL:https://www.mbgf.nl/agenda/theorie-en-praktijk-examens-oldebroek/
LOCATION:Gelderland
END:VEVENT
BEGIN:VEVENT
DTSTART;VALUE=DATE:20260606
DTEND;VALUE=DATE:20260607
DTSTAMP:20260424T120828
CREATED:20260314T153611Z
LAST-MODIFIED:20260314T153819Z
UID:4757-1780704000-1780790399@www.mbgf.nl
SUMMARY:MBGF straatparade Nijmegen Klinkt
DESCRIPTION:Dit evenement vind plaats in het centrum van Nijmegen.\nTevens vind hier het examen plaats van de MBGF tambour-maître opleiding.
URL:https://www.mbgf.nl/agenda/mbgf-straatparade-nijmegen-klinkt/
LOCATION:Gelderland
ATTACH;FMTTYPE=image/jpeg:https://www.mbgf.nl/wp-content/uploads/2026/03/Nijmegen-Klinkt-2026.jpg
END:VEVENT
BEGIN:VEVENT
DTSTART;VALUE=DATE:20260613
DTEND;VALUE=DATE:20260614
DTSTAMP:20260424T120828
CREATED:20260314T154106Z
LAST-MODIFIED:20260314T154106Z
UID:4762-1781308800-1781395199@www.mbgf.nl
SUMMARY:Theorie- en praktijk examens Zetten
DESCRIPTION:
URL:https://www.mbgf.nl/agenda/theorie-en-praktijk-examens-zetten/
LOCATION:Gelderland
END:VEVENT
BEGIN:VEVENT
DTSTART;VALUE=DATE:20260627
DTEND;VALUE=DATE:20260628
DTSTAMP:20260424T120828
CREATED:20260314T154420Z
LAST-MODIFIED:20260314T161315Z
UID:4764-1782518400-1782604799@www.mbgf.nl
SUMMARY:Talenten Festival Velp
DESCRIPTION:
URL:https://www.mbgf.nl/agenda/talentenorkesten-festival-velp/
LOCATION:Openlucht Theater De Pinkenberg\, Kluizenaarsweg 4\, Velp (bij Arnhem)\, Gelderland\, 6891 DN\, Netherlands
END:VEVENT
BEGIN:VEVENT
DTSTART;VALUE=DATE:20261010
DTEND;VALUE=DATE:20261011
DTSTAMP:20260424T120828
CREATED:20260314T161758Z
LAST-MODIFIED:20260314T161758Z
UID:4769-1791590400-1791676799@www.mbgf.nl
SUMMARY:Theorie- en praktijk examens Urk
DESCRIPTION:
URL:https://www.mbgf.nl/agenda/theorie-en-praktijk-examens-urk/
LOCATION:Gelderland
END:VEVENT
BEGIN:VEVENT
DTSTART;VALUE=DATE:20261017
DTEND;VALUE=DATE:20261018
DTSTAMP:20260424T120828
CREATED:20260314T162014Z
LAST-MODIFIED:20260314T162014Z
UID:4771-1792195200-1792281599@www.mbgf.nl
SUMMARY:Hanzefestival Zutphen
DESCRIPTION:
URL:https://www.mbgf.nl/agenda/hanzefestival-zutphen/
LOCATION:Zutphen\, Hanzehof Buitensociëteit\, Coehoornsingel 1\, Zutphen\, Gelderland\, 7201AA\, Netherlands
END:VEVENT
BEGIN:VEVENT
DTSTART;VALUE=DATE:20261031
DTEND;VALUE=DATE:20261101
DTSTAMP:20260424T120828
CREATED:20260314T162501Z
LAST-MODIFIED:20260314T163932Z
UID:4773-1793404800-1793491199@www.mbgf.nl
SUMMARY:SMP Festival Arnhem
DESCRIPTION:
URL:https://www.mbgf.nl/agenda/smp-festival-gendt/
LOCATION:Arnhem\, sportcentrum Valkenhuizen\, Beukenlaan 15\, Arnhem\, Gelderland\, 6823 MA\, Netherlands
ATTACH;FMTTYPE=image/jpeg:https://www.mbgf.nl/wp-content/uploads/2026/03/IndoorFestival2026.jpeg
END:VEVENT
BEGIN:VEVENT
DTSTART;TZID=Europe/Amsterdam:20261121T100000
DTEND;TZID=Europe/Amsterdam:20261121T180000
DTSTAMP:20260424T120828
CREATED:20251122T171926Z
LAST-MODIFIED:20260314T164906Z
UID:4160-1795255200-1795284000@www.mbgf.nl
SUMMARY:Concertconcours Zutphen
DESCRIPTION:
URL:https://www.mbgf.nl/agenda/concertconcours-3/
LOCATION:Zutphen\, Hanzehof Buitensociëteit\, Coehoornsingel 1\, Zutphen\, Gelderland\, 7201AA\, Netherlands
ATTACH;FMTTYPE=image/jpeg:https://www.mbgf.nl/wp-content/uploads/2026/03/01-Pieter_Aafjes_Culemborg-scaled.jpg
END:VEVENT
BEGIN:VEVENT
DTSTART;TZID=Europe/Amsterdam:20261128T100000
DTEND;TZID=Europe/Amsterdam:20261128T180000
DTSTAMP:20260424T120828
CREATED:20260314T164356Z
LAST-MODIFIED:20260314T165058Z
UID:4780-1795860000-1795888800@www.mbgf.nl
SUMMARY:Concertconcours Zutphen
DESCRIPTION:
URL:https://www.mbgf.nl/agenda/concertconcours-zutphen-2/
LOCATION:Zutphen\, Hanzehof Buitensociëteit\, Coehoornsingel 1\, Zutphen\, Gelderland\, 7201AA\, Netherlands
ATTACH;FMTTYPE=image/jpeg:https://www.mbgf.nl/wp-content/uploads/2026/03/01-Pieter_Aafjes_Culemborg-scaled.jpg
END:VEVENT
BEGIN:VEVENT
DTSTART;VALUE=DATE:20270403
DTEND;VALUE=DATE:20270404
DTSTAMP:20260424T120828
CREATED:20260414T192537Z
LAST-MODIFIED:20260414T192537Z
UID:4878-1806710400-1806796799@www.mbgf.nl
SUMMARY:Solistenconcours 2027
DESCRIPTION:
URL:https://www.mbgf.nl/agenda/solistenconcours-2027/
LOCATION:Dorpshuis Het Blanke Schot\, Garderenseweg 33\, Uddel\, Gelderland\, 3888 LA\, Netherlands
ORGANIZER;CN="MBGF":MAILTO:solistenconcours@mbgf.nl
END:VEVENT
END:VCALENDAR